BEGIN:VCALENDAR
VERSION:2.0
PRODID:icalendar-ruby
CALSCALE:GREGORIAN
METHOD:PUBLISH
BEGIN:VEVENT
DTSTAMP:20260423T165932Z
UID:11-356215@sequoyahhills.tithelysetup5.com
DTSTART:20260802T141500Z
DTEND:20260802T151500Z
CLASS:PUBLIC
CREATED:20260423T102237
DESCRIPTION:LIfeGroups
LAST-MODIFIED:20260423T102237
LOCATION:
SUMMARY:LIfeGroups
URL;VALUE=URI:https://www.sequoyahhills.church/events/lifegroups/2026-08-02
ATTACH;FILENAME=LIfeGroups-Website-AD.png;FMTTYPE=image/png:https://dq5pwpg
 1q8ru0.cloudfront.net/2025/07/12/20/05/30/c0571a8f-47be-40bb-84d4-88a7b804
 e4b0/LIfeGroups-Website-AD.png
END:VEVENT
END:VCALENDAR
